BEGIN:VCALENDAR
VERSION:2.0
PRODID:-//Victory Christian Fellowship - ECPv6.15.17.1//NONSGML v1.0//EN
CALSCALE:GREGORIAN
METHOD:PUBLISH
X-ORIGINAL-URL:https://vcfj.org
X-WR-CALDESC:Events for Victory Christian Fellowship
REFRESH-INTERVAL;VALUE=DURATION:PT1H
X-Robots-Tag:noindex
X-PUBLISHED-TTL:PT1H
BEGIN:VTIMEZONE
TZID:America/Chicago
BEGIN:DAYLIGHT
TZOFFSETFROM:-0600
TZOFFSETTO:-0500
TZNAME:CDT
DTSTART:20280312T080000
END:DAYLIGHT
BEGIN:STANDARD
TZOFFSETFROM:-0500
TZOFFSETTO:-0600
TZNAME:CST
DTSTART:20281105T070000
END:STANDARD
BEGIN:DAYLIGHT
TZOFFSETFROM:-0600
TZOFFSETTO:-0500
TZNAME:CDT
DTSTART:20290311T080000
END:DAYLIGHT
BEGIN:STANDARD
TZOFFSETFROM:-0500
TZOFFSETTO:-0600
TZNAME:CST
DTSTART:20291104T070000
END:STANDARD
BEGIN:DAYLIGHT
TZOFFSETFROM:-0600
TZOFFSETTO:-0500
TZNAME:CDT
DTSTART:20300310T080000
END:DAYLIGHT
BEGIN:STANDARD
TZOFFSETFROM:-0500
TZOFFSETTO:-0600
TZNAME:CST
DTSTART:20301103T070000
END:STANDARD
END:VTIMEZONE
BEGIN:VEVENT
DTSTART;TZID=America/Chicago:20290901T080000
DTEND;TZID=America/Chicago:20290901T100000
DTSTAMP:20260421T084937
CREATED:20250913T164904Z
LAST-MODIFIED:20250913T164904Z
UID:10001820-1882944000-1882951200@vcfj.org
SUMMARY:MEN'S BREAKFAST
DESCRIPTION:
URL:https://vcfj.org/event/mens-breakfast/2029-09-01/
LOCATION:Education Center\, 500 East Lane\, Jewell\, IA\, 50130\, United States
CATEGORIES:Men's Ministry
ATTACH;FMTTYPE=image/webp:https://vcfj.org/wp-content/uploads/2025/09/Untitled-6.webp
GEO:42.3051468;-93.6387223
X-APPLE-STRUCTURED-LOCATION;VALUE=URI;X-ADDRESS=Education Center 500 East Lane Jewell IA 50130 United States;X-APPLE-RADIUS=500;X-TITLE=500 East Lane:geo:-93.6387223,42.3051468
END:VEVENT
BEGIN:VEVENT
DTSTART;TZID=America/Chicago:20290902T100000
DTEND;TZID=America/Chicago:20290902T115500
DTSTAMP:20260421T084937
CREATED:20250412T162400Z
LAST-MODIFIED:20250412T162400Z
UID:10001552-1883037600-1883044500@vcfj.org
SUMMARY:SUNDAY WORSHIP CELEBRATION
DESCRIPTION:
URL:https://vcfj.org/event/sunday-worship-celebration-2/2029-09-02/
LOCATION:Worship Center\, 501 East Lane\, Jewell\, IA\, 50130\, United States
ATTACH;FMTTYPE=image/jpeg:https://vcfj.org/wp-content/uploads/2022/02/banner_on_web-12-e1655587823881.jpg
GEO:42.3051428;-93.6387594
X-APPLE-STRUCTURED-LOCATION;VALUE=URI;X-ADDRESS=Worship Center 501 East Lane Jewell IA 50130 United States;X-APPLE-RADIUS=500;X-TITLE=501 East Lane:geo:-93.6387594,42.3051428
END:VEVENT
BEGIN:VEVENT
DTSTART;TZID=America/Chicago:20290902T120000
DTEND;TZID=America/Chicago:20290902T140000
DTSTAMP:20260421T084937
CREATED:20241118T023611Z
LAST-MODIFIED:20241118T023611Z
UID:10001620-1883044800-1883052000@vcfj.org
SUMMARY:FAMILY POTLUCK MEAL
DESCRIPTION:
URL:https://vcfj.org/event/family-potluck-meal/2029-09-02/
LOCATION:Education Center\, 500 East Lane\, Jewell\, IA\, 50130\, United States
CATEGORIES:Hospitality Ministry
GEO:42.3051468;-93.6387223
X-APPLE-STRUCTURED-LOCATION;VALUE=URI;X-ADDRESS=Education Center 500 East Lane Jewell IA 50130 United States;X-APPLE-RADIUS=500;X-TITLE=500 East Lane:geo:-93.6387223,42.3051468
END:VEVENT
BEGIN:VEVENT
DTSTART;TZID=America/Chicago:20290909T100000
DTEND;TZID=America/Chicago:20290909T115500
DTSTAMP:20260421T084937
CREATED:20250412T162400Z
LAST-MODIFIED:20250412T162400Z
UID:10001553-1883642400-1883649300@vcfj.org
SUMMARY:SUNDAY WORSHIP CELEBRATION
DESCRIPTION:
URL:https://vcfj.org/event/sunday-worship-celebration-2/2029-09-09/
LOCATION:Worship Center\, 501 East Lane\, Jewell\, IA\, 50130\, United States
ATTACH;FMTTYPE=image/jpeg:https://vcfj.org/wp-content/uploads/2022/02/banner_on_web-12-e1655587823881.jpg
GEO:42.3051428;-93.6387594
X-APPLE-STRUCTURED-LOCATION;VALUE=URI;X-ADDRESS=Worship Center 501 East Lane Jewell IA 50130 United States;X-APPLE-RADIUS=500;X-TITLE=501 East Lane:geo:-93.6387594,42.3051428
END:VEVENT
BEGIN:VEVENT
DTSTART;TZID=America/Chicago:20290916T100000
DTEND;TZID=America/Chicago:20290916T115500
DTSTAMP:20260421T084937
CREATED:20250412T162400Z
LAST-MODIFIED:20250412T162400Z
UID:10001554-1884247200-1884254100@vcfj.org
SUMMARY:SUNDAY WORSHIP CELEBRATION
DESCRIPTION:
URL:https://vcfj.org/event/sunday-worship-celebration-2/2029-09-16/
LOCATION:Worship Center\, 501 East Lane\, Jewell\, IA\, 50130\, United States
ATTACH;FMTTYPE=image/jpeg:https://vcfj.org/wp-content/uploads/2022/02/banner_on_web-12-e1655587823881.jpg
GEO:42.3051428;-93.6387594
X-APPLE-STRUCTURED-LOCATION;VALUE=URI;X-ADDRESS=Worship Center 501 East Lane Jewell IA 50130 United States;X-APPLE-RADIUS=500;X-TITLE=501 East Lane:geo:-93.6387594,42.3051428
END:VEVENT
BEGIN:VEVENT
DTSTART;TZID=America/Chicago:20290923T100000
DTEND;TZID=America/Chicago:20290923T115500
DTSTAMP:20260421T084937
CREATED:20250412T162400Z
LAST-MODIFIED:20250412T162400Z
UID:10001555-1884852000-1884858900@vcfj.org
SUMMARY:SUNDAY WORSHIP CELEBRATION
DESCRIPTION:
URL:https://vcfj.org/event/sunday-worship-celebration-2/2029-09-23/
LOCATION:Worship Center\, 501 East Lane\, Jewell\, IA\, 50130\, United States
ATTACH;FMTTYPE=image/jpeg:https://vcfj.org/wp-content/uploads/2022/02/banner_on_web-12-e1655587823881.jpg
GEO:42.3051428;-93.6387594
X-APPLE-STRUCTURED-LOCATION;VALUE=URI;X-ADDRESS=Worship Center 501 East Lane Jewell IA 50130 United States;X-APPLE-RADIUS=500;X-TITLE=501 East Lane:geo:-93.6387594,42.3051428
END:VEVENT
BEGIN:VEVENT
DTSTART;TZID=America/Chicago:20290930T100000
DTEND;TZID=America/Chicago:20290930T115500
DTSTAMP:20260421T084937
CREATED:20250412T162400Z
LAST-MODIFIED:20250412T162400Z
UID:10001556-1885456800-1885463700@vcfj.org
SUMMARY:SUNDAY WORSHIP CELEBRATION
DESCRIPTION:
URL:https://vcfj.org/event/sunday-worship-celebration-2/2029-09-30/
LOCATION:Worship Center\, 501 East Lane\, Jewell\, IA\, 50130\, United States
ATTACH;FMTTYPE=image/jpeg:https://vcfj.org/wp-content/uploads/2022/02/banner_on_web-12-e1655587823881.jpg
GEO:42.3051428;-93.6387594
X-APPLE-STRUCTURED-LOCATION;VALUE=URI;X-ADDRESS=Worship Center 501 East Lane Jewell IA 50130 United States;X-APPLE-RADIUS=500;X-TITLE=501 East Lane:geo:-93.6387594,42.3051428
END:VEVENT
END:VCALENDAR